BEGIN:VCALENDAR
VERSION:2.0
PRODID:-//Ocean Ad Ventures - ECPv6.15.16//NONSGML v1.0//EN
CALSCALE:GREGORIAN
METHOD:PUBLISH
X-WR-CALNAME:Ocean Ad Ventures
X-ORIGINAL-URL:https://ocean-ad-ventures.com/es
X-WR-CALDESC:Eventos para Ocean Ad Ventures
REFRESH-INTERVAL;VALUE=DURATION:PT1H
X-Robots-Tag:noindex
X-PUBLISHED-TTL:PT1H
BEGIN:VTIMEZONE
TZID:UTC
BEGIN:STANDARD
TZOFFSETFROM:+0000
TZOFFSETTO:+0000
TZNAME:UTC
DTSTART:20240101T000000
END:STANDARD
END:VTIMEZONE
BEGIN:VEVENT
DTSTART;VALUE=DATE:20250809
DTEND;VALUE=DATE:20250817
DTSTAMP:20260421T091305
CREATED:20250429T114641Z
LAST-MODIFIED:20250429T114738Z
UID:8414-1754697600-1755388799@ocean-ad-ventures.com
SUMMARY:Kite and Wingfoil Cabin Charter Sardinia and Corsica
DESCRIPTION:Kite and Wingfoil Cruise Sardinia and Corsica\n7 day Cabin Charter on Sardinia and Corsica\nKite and Wingfoil Cruise on Sardinia and Corsica\, the ultimate Event for all independent Riders and their friends and family! \nKey facts about your Cruise: \nDuration: 7 days \nCheck in: Olbia at 18.00 on the 09th of August 2025 \nCheck out: Olbia at 09.00 on the 16th of August 2025 \nTravel Details: The meeting point is ca. 10min. by taxi from the airport of Olbia \nDestination: You will get on board of the Catamaran Olbia\, Sardinia\, where the airport is. Together we will start sailing to the first kite spot which will be near by. Your first kite session will be at the first day.  We will sail up the coast to explore Sardinia and the Islands of Madelena and continue to Corsikas Bonifazio area. At the last day we will be back in Olbia. \nExperience Level: Ideal for confident riders\, riding upwind. Beginner lessons could be available on private charters and must be arranged ahead. Non Kiter or Non Winger are more then welcome to join. \nAccommodation: Guests stay on one of our official and comfortable DUOTONE catamarans. \nMeals: will be prepared for breakfast\, lunch and dinner by the onboard chef. \nActivities: Daily kite and wingfoil sessions\, plus other water sports and land exploration. \nWhat’s Included: Accommodation\, all yacht related costs\, meals and softdrinks\, gear storage\, and guide kitesurf and wingfoil guide. \nWhat to Bring: Sunscreen\, and water sports clothing\, waterbottle to refill\, harness\, collapsable bag (duffel bag)\, Personal kite/wingfoil gear (or you can rent the latest DUOTONE equipment on board) \n \nFor who is a Kitesurf and Wingfoil Cruise in Sardinia ideal?\nA kite and wingfoil charter in Sardinia and Corsica is the ultimate getaway. Perfect for adventure seekers\, water sports enthusiasts\, and nature lovers looking to combine their passion for kitesurfing and wingfoiling with exploring two of the most breathtaking and unspoiled regions in the Mediterranean. This kitesurf and wingfoil trip in Sardinia and Corsica is perfect for: \n\nAdventure enthusiasts seeking adrenaline and excitement on the water\nKitesurfers and wingfoilers of all skill levels\, from beginners to advanced\nNature lovers who want to explore untouched coastlines\, hidden beaches\, and crystal-clear waters\nTravelers looking for a unique blend of sports\, relaxation\, and exploration\nActive holiday seekers interested in combining fitness\, wind sports\, and outdoor activities\nSmall groups of friends or solo travelers looking to connect with like-minded people on an unforgettable adventure in the Mediterranean.\n\nThe Sardinia and Corsica cruise is a perfect balance of adventure\, relaxation\, and discovery in a unique Kitesurfing\, Wingfoiling and sailing experience. \n  \n  \nFind more information about the Destination and this cruise here \n  \n \nSailing Conditions in Sardinia and Corsica – Smooth and Relaxing Cruises for All\nThe consistent thermal winds in the region make for smooth\, reliable sailing\, allowing the catamaran to effortlessly move between prime kitesurf and wingfoil spots. The sailing conditions around Sardinia and Corsica are perfect for kitesurfing and wingfoiling\, especially when combined with the unique experience of cruising on a catamaran. \nOur Yacht is specially designed for our kitesurfing and sailing cruises in the Grenadines. Unlike standard charter boats\, our yacht is equipped to meet the unique needs of our guests. Theyacht features spacious cabins with private bathrooms and showers\, multiple chill-out areas for relaxation\, and environmentally friendly amenities. We rely on solar panels for electricity and produce our own drinking water onboard\, reducing the need for plastic bottles. \nJoin our Kite and Wingfoil Charter in Sardinia and Corsica for a comfortable\, eco-friendly adventure\, whether you’re there to relax or learn how to sail!
URL:https://ocean-ad-ventures.com/es/event/kite-and-wingfoil-cabin-charter-sardinia-and-corsica/
LOCATION:Sardinia and Corsica\, Olbia\, Sardinia. and Corsica\, Italy
ATTACH;FMTTYPE=image/jpeg:https://ocean-ad-ventures.com/wp-content/uploads/2024/09/Kitecruise_022_byPascalLieleg-scaled-e1726490165508.jpg
ORGANIZER;CN="Ocean Ad-Ventures":MAILTO:info@ocean-ad-ventures.com
END:VEVENT
END:VCALENDAR